BEGIN:VCALENDAR
VERSION:2.0
PRODID:-//Dobie Diamond Club - ECPv6.15.20//NONSGML v1.0//EN
CALSCALE:GREGORIAN
METHOD:PUBLISH
X-ORIGINAL-URL:https://dobiediamondclub.com
X-WR-CALDESC:Events for Dobie Diamond Club
REFRESH-INTERVAL;VALUE=DURATION:PT1H
X-Robots-Tag:noindex
X-PUBLISHED-TTL:PT1H
BEGIN:VTIMEZONE
TZID:UTC
BEGIN:STANDARD
TZOFFSETFROM:+0000
TZOFFSETTO:+0000
TZNAME:UTC
DTSTART:20210101T000000
END:STANDARD
END:VTIMEZONE
BEGIN:VEVENT
DTSTART;TZID=UTC:20260116T160000
DTEND;TZID=UTC:20260116T180000
DTSTAMP:20260423T153037
CREATED:20260116T152519Z
LAST-MODIFIED:20260116T152519Z
UID:1208-1768579200-1768586400@dobiediamondclub.com
SUMMARY:Dobie Tryouts
DESCRIPTION:
URL:https://dobiediamondclub.com/event/dobie-tryouts/
LOCATION:Dobie Field
END:VEVENT
BEGIN:VEVENT
DTSTART;TZID=UTC:20251213T093000
DTEND;TZID=UTC:20251213T123000
DTSTAMP:20260423T153037
CREATED:20251209T024616Z
LAST-MODIFIED:20251209T024707Z
UID:1175-1765618200-1765629000@dobiediamondclub.com
SUMMARY:Dobie Baseball Annual Toy Drive
DESCRIPTION:
URL:https://dobiediamondclub.com/event/dobie-baseball-annual-toy-drive/
LOCATION:Dobie Field
ATTACH;FMTTYPE=image/jpeg:https://dobiediamondclub.com/wp-content/uploads/2025/12/large-4.jpg
END:VEVENT
BEGIN:VEVENT
DTSTART;TZID=UTC:20251206T080000
DTEND;TZID=UTC:20251206T170000
DTSTAMP:20260423T153037
CREATED:20251103T230557Z
LAST-MODIFIED:20251103T230557Z
UID:1136-1765008000-1765040400@dobiediamondclub.com
SUMMARY:16th Annual Golf Tournament
DESCRIPTION:
URL:https://dobiediamondclub.com/event/16th-annual-golf-tournament/
LOCATION:Golf Tournament\, 1000 Duffer Ln.\, Houston\, TX\, 77034\, United States
ATTACH;FMTTYPE=image/jpeg:https://dobiediamondclub.com/wp-content/uploads/2025/11/large-1.jpg
END:VEVENT
BEGIN:VEVENT
DTSTART;VALUE=DATE:20251124
DTEND;VALUE=DATE:20251125
DTSTAMP:20260423T153037
CREATED:20251103T230037Z
LAST-MODIFIED:20251103T230037Z
UID:1132-1763942400-1764028799@dobiediamondclub.com
SUMMARY:Mod Pizza Fundraising
DESCRIPTION:
URL:https://dobiediamondclub.com/event/mod-pizza-fundraising/
LOCATION:Mod Pizza\, 2682 Pearland Pkwy\, Suite 120\, Pearland\, TX\, 77581\, United States
ATTACH;FMTTYPE=image/jpeg:https://dobiediamondclub.com/wp-content/uploads/2025/11/large-3.jpg
END:VEVENT
BEGIN:VEVENT
DTSTART;TZID=UTC:20251025T180000
DTEND;TZID=UTC:20251025T210000
DTSTAMP:20260423T153037
CREATED:20251016T005718Z
LAST-MODIFIED:20251016T005718Z
UID:1114-1761415200-1761426000@dobiediamondclub.com
SUMMARY:Bing Night
DESCRIPTION:
URL:https://dobiediamondclub.com/event/bing-night/
LOCATION:Dobie Cafeteria\, 10220 Blackhawk Blvd.\, Houston\, Texas\, 77089
END:VEVENT
BEGIN:VEVENT
DTSTART;TZID=UTC:20250930T200000
DTEND;TZID=UTC:20250930T210000
DTSTAMP:20260423T153037
CREATED:20250930T013653Z
LAST-MODIFIED:20250930T013653Z
UID:1093-1759262400-1759266000@dobiediamondclub.com
SUMMARY:October Meeting
DESCRIPTION:
URL:https://dobiediamondclub.com/event/october-meeting/
LOCATION:Dobie Cafeteria\, 10220 Blackhawk Blvd.\, Houston\, Texas\, 77089
ATTACH;FMTTYPE=image/jpeg:https://dobiediamondclub.com/wp-content/uploads/2025/09/64e8597f057043e885d2d140fe8b7827.jpg
END:VEVENT
BEGIN:VEVENT
DTSTART;TZID=UTC:20241207T093000
DTEND;TZID=UTC:20241207T120000
DTSTAMP:20260423T153037
CREATED:20241119T223143Z
LAST-MODIFIED:20241119T223143Z
UID:1056-1733563800-1733572800@dobiediamondclub.com
SUMMARY:Dobie Baseball Toy Drive.
DESCRIPTION:
URL:https://dobiediamondclub.com/event/dobie-baseball-toy-drive/
LOCATION:Dobie Field
ATTACH;FMTTYPE=image/jpeg:https://dobiediamondclub.com/wp-content/uploads/2024/11/image0-1.jpeg
END:VEVENT
BEGIN:VEVENT
DTSTART;TZID=UTC:20241116T070000
DTEND;TZID=UTC:20241116T170000
DTSTAMP:20260423T153037
CREATED:20241004T141139Z
LAST-MODIFIED:20241004T141201Z
UID:1043-1731740400-1731776400@dobiediamondclub.com
SUMMARY:Gold Tournament
DESCRIPTION:
URL:https://dobiediamondclub.com/event/gold-tournament/
ATTACH;FMTTYPE=image/png:https://dobiediamondclub.com/wp-content/uploads/2024/10/GolfOct42024.png
END:VEVENT
BEGIN:VEVENT
DTSTART;TZID=UTC:20241005T180000
DTEND;TZID=UTC:20241005T220000
DTSTAMP:20260423T153037
CREATED:20241004T140722Z
LAST-MODIFIED:20241004T141038Z
UID:1038-1728151200-1728165600@dobiediamondclub.com
SUMMARY:Bingo Night
DESCRIPTION:
URL:https://dobiediamondclub.com/event/bingo-night/
ATTACH;FMTTYPE=image/png:https://dobiediamondclub.com/wp-content/uploads/2024/10/BINGOOct42024.png
END:VEVENT
BEGIN:VEVENT
DTSTART;TZID=UTC:20240323T190000
DTEND;TZID=UTC:20240323T220000
DTSTAMP:20260423T153037
CREATED:20240130T204724Z
LAST-MODIFIED:20240130T211257Z
UID:767-1711220400-1711231200@dobiediamondclub.com
SUMMARY:Spring Bingo
DESCRIPTION:
URL:https://dobiediamondclub.com/event/spring-bingo-3/
LOCATION:Dobie Cafeteria\, 10220 Blackhawk Blvd.\, Houston\, Texas\, 77089
END:VEVENT
BEGIN:VEVENT
DTSTART;VALUE=DATE:20231229
DTEND;VALUE=DATE:20240202
DTSTAMP:20260423T153037
CREATED:20231229T013703Z
LAST-MODIFIED:20231229T013907Z
UID:737-1703808000-1706831999@dobiediamondclub.com
SUMMARY:Baseball Buddies Program
DESCRIPTION:Baseball season will be here before you know it! With the beginning of the season comes our annual Baseball Buddies Program. Spread the word and get your younger kiddos signed up. We look forward to seeing and meeting our returning and new participants.
URL:https://dobiediamondclub.com/event/baseball-buddies-program/
LOCATION:Dobie Field
ATTACH;FMTTYPE=image/jpeg:https://dobiediamondclub.com/wp-content/uploads/2023/12/event02.jpeg
END:VEVENT
BEGIN:VEVENT
DTSTART;VALUE=DATE:20231104
DTEND;VALUE=DATE:20231105
DTSTAMP:20260423T153037
CREATED:20230823T202328Z
LAST-MODIFIED:20230823T202349Z
UID:679-1699056000-1699142399@dobiediamondclub.com
SUMMARY:14th Annual Golf Tournament
DESCRIPTION:Please join the Dobie Diamond Club for our 14th Annual Golf Tournament hosted to help support Dobie Baseball.\n\nSat. November 4\, 2023 at the Pasadena Municipal Golf Course.\n1000 Duffer LN | Houston\, TX 77034\nRegistration begins at 7:00am | Shotgun at 8:00am\nRegistration: $125/player or $500/team\nIncludes: cart\, 18-hole\, light breakfast\, lunch\, door prizes/giveaways\, awards and much more!\n21+ alcoholic beverages available for purchase.\n\nIf you would like to participate in our even as a sponsor or golfer please contact us at JFDOBIEDIAMONDCLUB@GMAIL.COM\n\nThank you for your support!
URL:https://dobiediamondclub.com/event/679/
ATTACH;FMTTYPE=image/jpeg:https://dobiediamondclub.com/wp-content/uploads/2023/08/Resized_2023_Golf_Tournament.jpeg
END:VEVENT
BEGIN:VEVENT
DTSTART;TZID=UTC:20231014T180000
DTEND;TZID=UTC:20231014T220000
DTSTAMP:20260423T153037
CREATED:20230823T202026Z
LAST-MODIFIED:20230823T202026Z
UID:675-1697306400-1697320800@dobiediamondclub.com
SUMMARY:Fall Bingo
DESCRIPTION:Ready for a night of fun!\n\nPlease join us for Fall Bingo on Saturday\, October 14\, 2023 at 7:00p in the Dobie High School Cafeteria.\nDoors open at 6:00p – First game kicks-off at 7:00p.\n$25 tickets | 10 games played\n\nThere will be door prizes\, concession\, Dobie merchandise and a night full of fun!\n\nShare with your family\, friends\, teachers\, coaches – ALL are welcomed.\n\nFor tickets please reach out to us at: jfdobiediamondclub@gmail.com.
URL:https://dobiediamondclub.com/event/fall-bingo/
ATTACH;FMTTYPE=image/png:https://dobiediamondclub.com/wp-content/uploads/2023/08/IMG_8383-1.png
END:VEVENT
BEGIN:VEVENT
DTSTART;TZID=UTC:20230914T120000
DTEND;TZID=UTC:20230914T210000
DTSTAMP:20260423T153037
CREATED:20230825T001528Z
LAST-MODIFIED:20230825T001528Z
UID:685-1694692800-1694725200@dobiediamondclub.com
SUMMARY:Dobie Baseball Spirit Night
DESCRIPTION:Attention Dobie Longhorns!\n\nNeed an afternoon or evening snack after a long day at school/work?\nGather your friends & family and join us for Spirit Night on Thursday\, September 14\, 2023 at The Snowcone Lady’s Snack Shack from 12:00pm – 9:00pm!\n\n4218 Broadway St.\nPearland\, TX 77581\n\n**Mention Dobie Baseball or show the flyer at checkout**\nPercentage of proceeds will be donated to the Baseball Program.\n\nThank you for your support!
URL:https://dobiediamondclub.com/event/dobie-baseball-spirit-night/
ATTACH;FMTTYPE=image/jpeg:https://dobiediamondclub.com/wp-content/uploads/2023/08/Dobie-Bse.jpg
END:VEVENT
BEGIN:VEVENT
DTSTART;VALUE=DATE:20230515
DTEND;VALUE=DATE:20230516
DTSTAMP:20260423T153037
CREATED:20230502T150230Z
LAST-MODIFIED:20230502T150230Z
UID:652-1684108800-1684195199@dobiediamondclub.com
SUMMARY:Mickey Mantle Tryouts
DESCRIPTION:Attention All Incoming Freshman! \nDobie Baseball Mickey Mantle tryouts are Monday\, May 15\, 2023 at 4:00p. \nMeet at the Dobie Baseball Field. Must bring your own gear and water to the tryout. \nGood luck! \n 
URL:https://dobiediamondclub.com/event/mickey-mantle-tryouts/
ATTACH;FMTTYPE=image/png:https://dobiediamondclub.com/wp-content/uploads/2023/05/mm2023.png
END:VEVENT
BEGIN:VEVENT
DTSTART;VALUE=DATE:20230429
DTEND;VALUE=DATE:20230430
DTSTAMP:20260423T153037
CREATED:20230228T214737Z
LAST-MODIFIED:20230228T222716Z
UID:630-1682726400-1682812799@dobiediamondclub.com
SUMMARY:Dobie Baseball Banquet
DESCRIPTION:Mark you calendars! \nDobie Baseball Banquet is being held on Saturday\, April 29\, 2023. \nAwards\, Dinner and Dancing! \n  \nMore details to follow at the monthly booster club meetings!
URL:https://dobiediamondclub.com/event/2023-dobie-baseball-banquet/
ATTACH;FMTTYPE=image/jpeg:https://dobiediamondclub.com/wp-content/uploads/2023/02/save-the-date.jpg
END:VEVENT
BEGIN:VEVENT
DTSTART;VALUE=DATE:20230325
DTEND;VALUE=DATE:20230326
DTSTAMP:20260423T153037
CREATED:20230228T172708Z
LAST-MODIFIED:20230228T214848Z
UID:628-1679702400-1679788799@dobiediamondclub.com
SUMMARY:Spring Bingo
DESCRIPTION:Ready for a night of fun!\n\nPlease join us for Fall Bingo on Saturday\, March 25\, 2023 at 7:00p in the Dobie High School Cafeteria.\nDoors open at 6:00p – First game kicks-off at 7:00p.\n$25 tickets | 10 games played\n\nThere will be door prizes\, concession\, Dobie merchandise and a night full of fun!\n\nShare with your family\, friends\, teachers\, coaches – ALL are welcomed.\n\nFor tickets please reach out to us at: jfdobiediamondclub@gmail.com.
URL:https://dobiediamondclub.com/event/spring-bingo-2/
ATTACH;FMTTYPE=image/jpeg:https://dobiediamondclub.com/wp-content/uploads/2023/02/Spring-Bingo-2023.jpg
END:VEVENT
BEGIN:VEVENT
DTSTART;VALUE=DATE:20230321
DTEND;VALUE=DATE:20230325
DTSTAMP:20260423T153037
CREATED:20230228T222604Z
LAST-MODIFIED:20230228T222604Z
UID:633-1679356800-1679702399@dobiediamondclub.com
SUMMARY:Teacher Appreciation Games
DESCRIPTION:Teachers in appreciation of all that you do we invite you to come out and watch your students play baseball! \nMarch 21\, 2023 \nSophomore 3:00P \nJV 5:00P \n  \nMarch 24\, 2023 \nVarsity 4:00P
URL:https://dobiediamondclub.com/event/teacher-appreciation-games/
ATTACH;FMTTYPE=image/jpeg:https://dobiediamondclub.com/wp-content/uploads/2023/02/teach-app.jpg
END:VEVENT
BEGIN:VEVENT
DTSTART;TZID=UTC:20230125T190000
DTEND;TZID=UTC:20230125T200000
DTSTAMP:20260423T153037
CREATED:20221219T005555Z
LAST-MODIFIED:20221219T005555Z
UID:541-1674673200-1674676800@dobiediamondclub.com
SUMMARY:MANDATORY PARENT MEETING
DESCRIPTION:Dobie Baseball athletes and parent Mandatory meeting. \nMain Campus cafeteria at 7:00p. \nA parent or guardian MUST be present at this meeting representing the baseball athlete. \n 
URL:https://dobiediamondclub.com/event/mandatory-parent-meeting-2/
END:VEVENT
BEGIN:VEVENT
DTSTART;VALUE=DATE:20230120
DTEND;VALUE=DATE:20230122
DTSTAMP:20260423T153037
CREATED:20221219T004657Z
LAST-MODIFIED:20221219T004657Z
UID:536-1674172800-1674345599@dobiediamondclub.com
SUMMARY:Baseball Tryouts
DESCRIPTION:Spring 2023 Baseball Tryouts – Dobie High School Baseball Field \nFriday\, January 20\, 2023 at 4:00PM \nSaturday\, January 21\, 2023 at 9:00AM \nParticipants are expected to tryout on both dates. \nBring your own gear and water to keep hydrated during the tryouts.
URL:https://dobiediamondclub.com/event/baseball-tryouts-2/
ATTACH;FMTTYPE=image/jpeg:https://dobiediamondclub.com/wp-content/uploads/2022/12/tryouts23.jpg
END:VEVENT
BEGIN:VEVENT
DTSTART;TZID=UTC:20230107T083000
DTEND;TZID=UTC:20230107T120000
DTSTAMP:20260423T153037
CREATED:20221219T005311Z
LAST-MODIFIED:20221219T005311Z
UID:539-1673080200-1673092800@dobiediamondclub.com
SUMMARY:Field Work Day
DESCRIPTION:**VOLUNTEERS NEEDED** \nSpring season is around the corner and we need your help Dobie Baseball! \nSaturday\, January 7\, 2023 we will have our preseason Field Work Day. Baseball athletes and volunteers please come out to work on the baseball field to get it ready! \nNOTE: If rainout\, will post-pone to January 14\, 2023. \n 
URL:https://dobiediamondclub.com/event/field-work-day/
END:VEVENT
BEGIN:VEVENT
DTSTART;VALUE=DATE:20230105
DTEND;VALUE=DATE:20230129
DTSTAMP:20260423T153037
CREATED:20230105T193701Z
LAST-MODIFIED:20230105T193701Z
UID:574-1672876800-1674950399@dobiediamondclub.com
SUMMARY:Dobie Baseball Buddy Registration Info
DESCRIPTION:Thank you for your interest in the Dobie Baseball Buddies Program! \nThe goal of this program is to give our athletes the opportunity to be mentors and\npositive role models\, while building relationships with the youth in our community who share the same\npassion for baseball. Registered participants will be paired up with a Dobie varsity baseball player for the season. \nDuring this time\, buddies are invited to attend home games\, have the opportunity to participate in two special one-on-\none Saturday practices. At the end of the season buddies will receive a personalized letter of encouragement from their Varsity Buddy and a special party! \nClick here to register https://forms.gle/rvZ3unMM3pEDsJXb9 \nGo Dobie!
URL:https://dobiediamondclub.com/event/dobie-baseball-buddy-registration-info/
ATTACH;FMTTYPE=image/png:https://dobiediamondclub.com/wp-content/uploads/2023/01/DobieBaseballBuddies2023.png
END:VEVENT
BEGIN:VEVENT
DTSTART;TZID=UTC:20221105T080000
DTEND;TZID=UTC:20221105T130000
DTSTAMP:20260423T153037
CREATED:20220824T161521Z
LAST-MODIFIED:20220824T161521Z
UID:469-1667635200-1667653200@dobiediamondclub.com
SUMMARY:13th Annual Golf Tournament
DESCRIPTION:Please join the Dobie Diamond Club for our 13th Annual Golf Tournament hosted to help support Dobie Baseball.\n\nSat. November 5\, 2022 at the Pasadena Municipal Golf Course.\nRegistration begins at 8:00a | Shotgun at 9:00a\nRegistration: $100/player or $400/team\n\nIncludes: cart\, 18-hole\, light breakfast\, lunch\, door prizes/giveaways\, awards and much more!\n21+ alcoholic beverages available for purchase.\n\nIf you would like to participate in our even as a sponsor or golfer please contact us at JFDOBIEDIAMONDCLUB@GMAIL.COM\n\nThank you!
URL:https://dobiediamondclub.com/event/13th-annual-golf-tournament/
ATTACH;FMTTYPE=image/jpeg:https://dobiediamondclub.com/wp-content/uploads/2022/08/Dobie-Diamond-Club-Golf-2022.jpeg
END:VEVENT
BEGIN:VEVENT
DTSTART;TZID=UTC:20221019T110000
DTEND;TZID=UTC:20221019T220000
DTSTAMP:20260423T153037
CREATED:20221010T163630Z
LAST-MODIFIED:20221010T163630Z
UID:533-1666177200-1666216800@dobiediamondclub.com
SUMMARY:Dobie Baseball Spirit Night at Spanky's - Spencer Hwy
DESCRIPTION:Come one\, Come all!\n\nPlease join us for Spirit Night on Wednesday\, October 19\, 2022 at Spanky’s Pizza on Spencer Hwy to help support Dobie Baseball!\nSpanky’s Pizza\n4010 Spencer Hwy\nPasadena\, TX 77504\n\n**Flyer must be presented at the time of order – acceptable via mobile device**\n\nThank you for your support!
URL:https://dobiediamondclub.com/event/dobie-baseball-spirit-night-at-spankys-spencer-hwy/
ATTACH;FMTTYPE=image/png:https://dobiediamondclub.com/wp-content/uploads/2022/10/SPKY-4010-Fundraising-FB-Flyer-2022_1019.-Dobie-1.png
END:VEVENT
BEGIN:VEVENT
DTSTART;TZID=UTC:20221011T160000
DTEND;TZID=UTC:20221011T190000
DTSTAMP:20260423T153037
CREATED:20220831T151400Z
LAST-MODIFIED:20220831T151413Z
UID:488-1665504000-1665514800@dobiediamondclub.com
SUMMARY:Dobie vs Milby
DESCRIPTION:Fall Ball 2022 \nDobie @ Milby – 4:00p \n1601 Broadway St. \nHouston\, TX 77012
URL:https://dobiediamondclub.com/event/488/
END:VEVENT
BEGIN:VEVENT
DTSTART;TZID=UTC:20221004T170000
DTEND;TZID=UTC:20221004T190000
DTSTAMP:20260423T153037
CREATED:20220831T151245Z
LAST-MODIFIED:20220831T151245Z
UID:486-1664902800-1664910000@dobiediamondclub.com
SUMMARY:Dobie vs Clear Brook
DESCRIPTION:Fall Ball 2022 \nDobie @ Clear Brook – 5:00p \n4607 FM 2351 \nFriendswood\, TX 77546
URL:https://dobiediamondclub.com/event/dobie-vs-clear-brook/
END:VEVENT
BEGIN:VEVENT
DTSTART;TZID=UTC:20220929T170000
DTEND;TZID=UTC:20220929T190000
DTSTAMP:20260423T153037
CREATED:20220831T151100Z
LAST-MODIFIED:20220831T151100Z
UID:484-1664470800-1664478000@dobiediamondclub.com
SUMMARY:Dobie vs GCM
DESCRIPTION:Fall Ball 2022 \nDobie @ Goose Creek Memorial – 5:00p \n6001 E. Wallisville Rd. \nBaytown\, TX 77521
URL:https://dobiediamondclub.com/event/dobie-vs-gcm-2/
END:VEVENT
BEGIN:VEVENT
DTSTART;TZID=UTC:20220927T170000
DTEND;TZID=UTC:20220927T190000
DTSTAMP:20260423T153037
CREATED:20220831T150526Z
LAST-MODIFIED:20220831T150657Z
UID:482-1664298000-1664305200@dobiediamondclub.com
SUMMARY:Dobie vs Ball High
DESCRIPTION:Fall Ball 2022 \nDobie @ Ball High School 5:00p \n4115 Avenue O \nGalveston\, TX 77550
URL:https://dobiediamondclub.com/event/dobie-vs-ball-high/
END:VEVENT
BEGIN:VEVENT
DTSTART;TZID=UTC:20220924T190000
DTEND;TZID=UTC:20220924T220000
DTSTAMP:20260423T153037
CREATED:20220824T161223Z
LAST-MODIFIED:20220824T161223Z
UID:467-1664046000-1664056800@dobiediamondclub.com
SUMMARY:Fall Bingo 2022
DESCRIPTION:Are you ready for a night of fun!\n\nPlease join us for Fall Bingo on Saturday\, September 24\, 2022 at 7:00p in the Dobie High School Cafeteria.\n\nDoors open at 6:00p – First game kicks-off at 7:00p.\n\nThere will be door prizes\, concession\, Dobie merchandise and a night full of fun!\n\nShare with your family\, friends\, teachers\, coaches – ALL are welcomed.\nFor tickets please reach out to us at: jfdobiediamondclub@gmail.com.
URL:https://dobiediamondclub.com/event/fall-bingo-2022/
ATTACH;FMTTYPE=image/jpeg:https://dobiediamondclub.com/wp-content/uploads/2022/08/Dobie-Baseball-Bingo-2022.jpeg
END:VEVENT
BEGIN:VEVENT
DTSTART;VALUE=DATE:20220922
DTEND;VALUE=DATE:20220924
DTSTAMP:20260423T153037
CREATED:20220831T151601Z
LAST-MODIFIED:20220831T151601Z
UID:491-1663804800-1663977599@dobiediamondclub.com
SUMMARY:TASO Tournament
DESCRIPTION:Details TBA
URL:https://dobiediamondclub.com/event/taso-tournament/
END:VEVENT
END:VCALENDAR